BEGIN:VCALENDAR
VERSION:2.0
PRODID:-//Exida: Excellence. Independence. International Customer Base.//NO
 NSGML kigkonsult.se iCalcreator 2.30.10//
CALSCALE:GREGORIAN
METHOD:PUBLISH
UID:2d7a3877-17a0-495a-a799-1eb2fe55033f
X-WR-CALNAME:iCagenda
X-WR-CALDESC:Event Management Extension for Joomla!
X-WR-RELCALID:3E26604A-50F4-4449-8B3E-E4F4932D05B5
X-WR-TIMEZONE:Europe/Rome
BEGIN:VTIMEZONE
TZID:Europe/Rome
BEGIN:STANDARD
TZNAME:CET
DTSTART:20201025T030000
TZOFFSETFROM:+0200
TZOFFSETTO:+0100
RDATE:20211031T030000
RDATE:20221030T030000
END:STANDARD
BEGIN:DAYLIGHT
TZNAME:CEST
DTSTART:20210328T020000
TZOFFSETFROM:+0100
TZOFFSETTO:+0200
RDATE:20220327T020000
END:DAYLIGHT
END:VTIMEZONE
BEGIN:VEVENT
UID:67f5e23b-8d4b-4445-a887-b00064ef9fa5
DTSTAMP:20260424T104250Z
CATEGORIES:Automotive
CLASS:PUBLIC
DESCRIPTION;ALTREP="CID:<FFFF__=0ABBE548DFE235B58f9e8a93d@coffeebean.com>":
 \n\n\n\n\n\nAutomotive ISO26262: Road Vehicles Functional Safety\n \n\n\nW
 ho should attend:\n\nSafety Managers\nDevelopment Engineers (System\, Hard
 ware and Software)\nProduct Managers\nProject Leaders of safety related de
 velopment projects\nManagers responsible for establishment of work process
 es\nQuality managers\n\n\n\nCourse topics:\n\nFunctional Safety Overview /
  General Introduction\nFS Management &amp\; Safety Life Cycle Requirements
  (ISO 26262 - Part 2)\nRisk Based Safety Requirements Engineering (ISO 262
 62 - Part 3)\nItem Definition\nHazard Analysis &amp\; Risk Assessment\nFun
 ctional Safety ConceptTechnical Safety Concept (ISO 26262 - Part 4)\nHardw
 are-Software-Interface Specification: The ISO solution for an old problem
 \nItem integration and testing\nValidation\nRelease for Production\nISO 26
 262 lifecycle approach: Product Lifecycle and process requirements\nWhere 
 is hardware development in the process model?\nHardware Development (ISO 2
 6262 - Part 5)\nHow to evaluate the metric for 'Safety Goal Violation'\nHo
 w to evaluate the metrics SPFM and LFM\nHSI - Cooperation with the softwar
 e team\nQualification of HW components (ISO26262 - Part 8 § 13)\nSoftware 
 Development Process (ISO 26262 - Part 6)\nSoftware Safety Requirements Spe
 cification:\nSoftware Architecture:\nSoftware Unit Design\nSoftware Safety
  Verification\nTool classification and qualification \nSoftware qualificat
 ion: How to deal with existing components?\n\nFor more details about the c
 ourse topics\, download the brochure on the top of the page\n\n\n \n\n\n\n
 \n\n\n\n\n\nDuration: 4 days\nSchedule: 1st day 10.00 - 18.00\; 2nd day 9.
 00 - 17.00\; 3rd day 9.00 - 17.00\; 4th day 9.00 - 17.00\;          \n    
                Participation in the individual training modules DE0201 (In
 troduction)\, DE0202 (HW part)\, DE0203 (SW part) is also possible.\nLangu
 age: German or English\, training material will be in English\nLocation: 
 \n                     exida.com GmbH office                     Prof.-Mes
 serschmitt-Straße 1                     D-85579 Neubiberg / Germany\nCerti
 ficate: each participant gets a letter of attendance. After the end of the
  4th day there is a                      possibility to do the FSP exam. T
 his is optional and free of charge. An CFSE/P exam will                   
     be given on the 5th day of the training week. This is also optional.  
                      For more information\, please follow this link: http:
 //www.exidacfse.com/\n\n \n\n \n\n\n\n
DTSTART:20210607T080000Z
DTEND:20210610T150000Z
GEO:+48.0755;+11.656484
LOCATION:Prof.-Messerschmitt-Straße 1  D-85579 Neubiberg / Germany
ORGANIZER;CN=:kerstin.tietel@exida.com
SEQUENCE:1
SUMMARY:ISO26262 Automotive Safety (DE0204)
TRANSP:OPAQUE
URL:https://www.exida-eu.com/all-trainings/automotive/5-iso26262-automotive
 -safety-de0204/2021-06-07-10-00
END:VEVENT
END:VCALENDAR
