BEGIN:VCALENDAR
VERSION:2.0
PRODID:-//Exida: Excellence. Independence. International Customer Base.//NO
 NSGML kigkonsult.se iCalcreator 2.30.10//
CALSCALE:GREGORIAN
METHOD:PUBLISH
UID:460b5175-57a5-4065-aa2e-4c57d27147bf
X-WR-CALNAME:iCagenda
X-WR-CALDESC:Event Management Extension for Joomla!
X-WR-RELCALID:3E26604A-50F4-4449-8B3E-E4F4932D05B5
X-WR-TIMEZONE:Europe/Rome
BEGIN:VTIMEZONE
TZID:Europe/Rome
BEGIN:STANDARD
TZNAME:CET
DTSTART:20231029T030000
TZOFFSETFROM:+0200
TZOFFSETTO:+0100
RDATE:20241027T030000
END:STANDARD
BEGIN:DAYLIGHT
TZNAME:CEST
DTSTART:20230326T020000
TZOFFSETFROM:+0100
TZOFFSETTO:+0200
RDATE:20240331T020000
RDATE:20250330T020000
END:DAYLIGHT
END:VTIMEZONE
BEGIN:VEVENT
UID:9b0b3e7e-c022-4672-af70-d659595f10fd
DTSTAMP:20260424T132826Z
CATEGORIES:Process and Machinery Industry
CLASS:PUBLIC
DESCRIPTION;ALTREP="CID:<FFFF__=0ABBE548DFE235B58f9e8a93d@coffeebean.com>":
 \n\n\n\n\n\nDevelopment of safety related Systems and Hardware\, Verificat
 ion and Testing acc. to IEC61508\n \n\n\nWho should attend:\n\nDevelopment
  Engineers (System\, Hardware)\nSafety Managers\nHardware Project Leaders
 \nHardware Quality Responsible\n\n\n\nCourse topics:\n\nE/E/PE system safe
 ty lifecycle requirements\nSystematic and random faults\nFault control\nSa
 fety relevant parameters\nHardware Fault Tolerance and Architectural Const
 raints\nSystem design requirements specification\nSystem safety validation
  planning\nSystem and Hardware design and development\nE/E/PE system integ
 ration\nE/E/PE system safety validation\nSafe modification\n\n\n\n\n\n For
  more details about the course topics\, download the brochure on the top o
 f the page\n\n\n\n\n\n\n\n\n\n\n \n\n\nDuration: 2 days (or in-house\, joi
 ntly agreed\, please contact us for more information).\nSchedule: 1st day 
 10.00 - 18.00\; 2nd day 9.00 - 17.00\nLanguage: for Public Training - Engl
 ish.\n                 for In-House Training- it can be chosen between Ger
 man and English. The training material will be in English.\nLocation: exid
 a.com GmbH                Office Neubiberg (Munich)\n                Prof.
 -Messerschmitt-Str. 1                D-85579 Neubiberg                Germ
 any\nCertificate: each participant gets a letter of attendance.\n\n\n\n
DTSTART:20231204T090000Z
DTEND:20231205T160000Z
GEO:+48.0755;+11.656484
LOCATION:Prof.-Messerschmitt-Straße 1  D-85579 Neubiberg / Germany
ORGANIZER;CN=:kerstin.tietel@exida.com
SEQUENCE:1
SUMMARY:IEC61508 Hardware (DE0102)
TRANSP:OPAQUE
URL:https://www.exida-eu.com/all-trainings/process-and-machinery-industry/9
 2-iec61508-hardware-de0102-5
END:VEVENT
END:VCALENDAR
