BEGIN:VCALENDAR
VERSION:2.0
PRODID:-//Exida: Excellence. Independence. International Customer Base.//NO
 NSGML kigkonsult.se iCalcreator 2.30.10//
CALSCALE:GREGORIAN
METHOD:PUBLISH
UID:8bb4dbc8-2cdf-4c90-ba02-a23a0b6bea57
X-WR-CALNAME:iCagenda
X-WR-CALDESC:Event Management Extension for Joomla!
X-WR-RELCALID:3E26604A-50F4-4449-8B3E-E4F4932D05B5
X-WR-TIMEZONE:Europe/Rome
BEGIN:VTIMEZONE
TZID:Europe/Rome
BEGIN:STANDARD
TZNAME:CET
DTSTART:20221030T030000
TZOFFSETFROM:+0200
TZOFFSETTO:+0100
RDATE:20231029T030000
END:STANDARD
BEGIN:DAYLIGHT
TZNAME:CEST
DTSTART:20230326T020000
TZOFFSETFROM:+0100
TZOFFSETTO:+0200
RDATE:20240331T020000
END:DAYLIGHT
END:VTIMEZONE
BEGIN:VEVENT
UID:065be8ef-80d4-48cf-a133-ce3052a7978b
DTSTAMP:20260423T143850Z
CATEGORIES:Software
CLASS:PUBLIC
DESCRIPTION;ALTREP="CID:<FFFF__=0ABBE548DFE235B58f9e8a93d@coffeebean.com>":
 \n\n\n\n\n\nSoftware Architecture\n \n\n\n\n\n\n\n\n\nWho should attend:\n
 \nSoftware Architects\nDevelopment Engineers (System and Software)\nSafety
  Managers\nProject Leaders of safety related development projects\nManager
 s responsible for definition and implementation of work processes\n\n\n\nC
 ourse topics:\n\nOverview methods for the architecture development and des
 cription\nModel based software development\nSemi-Formal Methods: UML\nDiag
 ram types\nUML Tools (e.g. Sparx Enterprise Architect\, PTC Integrity Mode
 ler)\nContent of software architecture descriptions in the scope safety st
 andards\nDevelopment approaches and methods incl. application of diagrams 
 and notation elements\nSoftware design pattern\nContent of design guidelin
 es\nVerification strategies for UML model based architectures\nTool based 
 documentation generation\nWorkshop: Guided development of a software archi
 tecture example\n\n\n\n\n\n For more details about the course topics\, dow
 nload the brochure on the top of the page\n \n\nDuration:     2 days\n \nS
 chedule:    1st day 10.00 - 18.00\; 2nd day 09.00 - 17.00\;\nLanguage:   E
 nglish or German in agreement with the participants. The training material
  will be in English.\nLocation:    ONSITE at our training rooms to exida.c
 om GmbH office\, Prof. - Messerschmitt-Straße 1 - D-85579\, Neubiberg / Ge
 rmany or ONLINE\nCertificate:   Each participant gets a letter of attendan
 ce.\n\n
DTSTART:20230420T080000Z
DTEND:20230421T150000Z
GEO:+48.0755;+11.656484
LOCATION:Prof.-Messerschmitt-Straße 1  D-85579 Neubiberg / Germany
ORGANIZER;CN=:kerstin.tietel@exida.com
SEQUENCE:1
SUMMARY:Software Architecture (DE0805)
TRANSP:OPAQUE
URL:https://www.exida-eu.com/all-trainings/software/96-semi-formal-sw-archi
 tecture-de0304-4
END:VEVENT
END:VCALENDAR
