BEGIN:VCALENDAR
VERSION:2.0
PRODID:-//Exida: Excellence. Independence. International Customer Base.//NO
 NSGML kigkonsult.se iCalcreator 2.30.10//
CALSCALE:GREGORIAN
METHOD:PUBLISH
UID:88158771-739e-4743-ab14-0725dc8aee20
X-WR-CALNAME:iCagenda
X-WR-CALDESC:Event Management Extension for Joomla!
X-WR-RELCALID:3E26604A-50F4-4449-8B3E-E4F4932D05B5
X-WR-TIMEZONE:Europe/Rome
BEGIN:VTIMEZONE
TZID:Europe/Rome
BEGIN:STANDARD
TZNAME:CET
DTSTART:20221030T030000
TZOFFSETFROM:+0200
TZOFFSETTO:+0100
RDATE:20231029T030000
RDATE:20241027T030000
END:STANDARD
BEGIN:DAYLIGHT
TZNAME:CEST
DTSTART:20230326T020000
TZOFFSETFROM:+0100
TZOFFSETTO:+0200
RDATE:20240331T020000
END:DAYLIGHT
END:VTIMEZONE
BEGIN:VEVENT
UID:ef9deeb4-9bd7-48b6-9c6b-3d0eddf21c7f
DTSTAMP:20260421T134439Z
CATEGORIES:Supporting topics
CLASS:PUBLIC
DESCRIPTION;ALTREP="CID:<FFFF__=0ABBE548DFE235B58f9e8a93d@coffeebean.com>":
 \n\n\n\n\n\nRequirements Development and Management Methodology in the con
 text of Functional Safety\n \n\n\n\n\nWho should attend:\n\nRequirement En
 gineers\nDevelopment Engineers (System\, Software\, Hardware)\nTesters (Sy
 stem\, Software\, Hardware)\n\n\n\nAgenda and Content:\n\nRequirements in 
 the context of Functional Safety Management\nSemi-formal Requirements Engi
 neering\nAttributes of requirements\nRequirements properties\nRequirements
  engineering\nCompleteness and consistency of requirements\nRequirements l
 ifecycle\nISO 26262/IEC 61508 compliance\n\n\n\n For more details about th
 e course topics\, download the brochure on the top of the page\n Duration:
  1\,5 days (First day: 10:00 AM - 06:00 PM\; Second day: 08:30 AM - 12:30 
 PM)\n\n\n\n\n\n\n\n\n\n\n\nLanguage: English or German in agreement with t
 he partecipants. The training material will be in English.\nLocation:   ON
 SITE at our training rooms to exida.com GmbH office\, Prof. - Messerschmit
 t-Straße 1 - D-85579\, Neubiberg / Germany or ONLINE\n \nCertificate Each 
 participant gets a confirmation of attendance also listing all the covered
  topics.\n \n\n \n\n\n\n
DTSTART:20230718T080000Z
DTEND:20230719T103000Z
GEO:+48.0755;+11.656484
LOCATION:Prof.-Messerschmitt-Straße 1  D-85579 Neubiberg / Germany
ORGANIZER;CN=:kerstin.tietel@exida.com
SEQUENCE:1
SUMMARY:Requirements Development and Management Methodology (DE0301)
TRANSP:OPAQUE
URL:https://www.exida-eu.com/all-trainings/supporting-topics/121-supporting
 -topics-de0301-3
END:VEVENT
END:VCALENDAR
